BEGIN:VCALENDAR
VERSION:2.0
PRODID:-//Section G8 - ECPv6.15.15//NONSGML v1.0//EN
CALSCALE:GREGORIAN
METHOD:PUBLISH
X-ORIGINAL-URL:https://g8.oa-scouting.org
X-WR-CALDESC:Events for Section G8
REFRESH-INTERVAL;VALUE=DURATION:PT1H
X-Robots-Tag:noindex
X-PUBLISHED-TTL:PT1H
BEGIN:VTIMEZONE
TZID:America/New_York
BEGIN:DAYLIGHT
TZOFFSETFROM:-0500
TZOFFSETTO:-0400
TZNAME:EDT
DTSTART:20250309T070000
END:DAYLIGHT
BEGIN:STANDARD
TZOFFSETFROM:-0400
TZOFFSETTO:-0500
TZNAME:EST
DTSTART:20251102T060000
END:STANDARD
BEGIN:DAYLIGHT
TZOFFSETFROM:-0500
TZOFFSETTO:-0400
TZNAME:EDT
DTSTART:20260308T070000
END:DAYLIGHT
BEGIN:STANDARD
TZOFFSETFROM:-0400
TZOFFSETTO:-0500
TZNAME:EST
DTSTART:20261101T060000
END:STANDARD
BEGIN:DAYLIGHT
TZOFFSETFROM:-0500
TZOFFSETTO:-0400
TZNAME:EDT
DTSTART:20270314T070000
END:DAYLIGHT
BEGIN:STANDARD
TZOFFSETFROM:-0400
TZOFFSETTO:-0500
TZNAME:EST
DTSTART:20271107T060000
END:STANDARD
END:VTIMEZONE
BEGIN:VEVENT
DTSTART;TZID=America/New_York:20260411T100000
DTEND;TZID=America/New_York:20260412T100000
DTSTAMP:20260421T065226
CREATED:20251007T022857Z
LAST-MODIFIED:20251007T022857Z
UID:1052-1775901600-1775988000@g8.oa-scouting.org
SUMMARY:Onsite Council of Chiefs
DESCRIPTION:The Onsite COC is the final weekend planning meeting for the Annual Red Arrow Rally. Arrowmen from all lodges are invited to come explore the camp\, help make final decisions on the event planning\, and enjoy a bit of fellowship. The goal of this event is to have the last major pieces of the planning complete. Registration is expected to be open in March 2026.
URL:https://g8.oa-scouting.org/oa-event/onsite-council-of-chiefs/
LOCATION:Ingersoll Scout Reservation\, 33 Knox Rd 650 E\, London Mills\, IL\, 61544
END:VEVENT
END:VCALENDAR