BEGIN:VCALENDAR
VERSION:2.0
PRODID:-//Section G8 - ECPv6.15.15//NONSGML v1.0//EN
CALSCALE:GREGORIAN
METHOD:PUBLISH
X-WR-CALNAME:Section G8
X-ORIGINAL-URL:https://g8.oa-scouting.org
X-WR-CALDESC:Events for Section G8
REFRESH-INTERVAL;VALUE=DURATION:PT1H
X-Robots-Tag:noindex
X-PUBLISHED-TTL:PT1H
BEGIN:VTIMEZONE
TZID:America/New_York
BEGIN:DAYLIGHT
TZOFFSETFROM:-0500
TZOFFSETTO:-0400
TZNAME:EDT
DTSTART:20250309T070000
END:DAYLIGHT
BEGIN:STANDARD
TZOFFSETFROM:-0400
TZOFFSETTO:-0500
TZNAME:EST
DTSTART:20251102T060000
END:STANDARD
BEGIN:DAYLIGHT
TZOFFSETFROM:-0500
TZOFFSETTO:-0400
TZNAME:EDT
DTSTART:20260308T070000
END:DAYLIGHT
BEGIN:STANDARD
TZOFFSETFROM:-0400
TZOFFSETTO:-0500
TZNAME:EST
DTSTART:20261101T060000
END:STANDARD
BEGIN:DAYLIGHT
TZOFFSETFROM:-0500
TZOFFSETTO:-0400
TZNAME:EDT
DTSTART:20270314T070000
END:DAYLIGHT
BEGIN:STANDARD
TZOFFSETFROM:-0400
TZOFFSETTO:-0500
TZNAME:EST
DTSTART:20271107T060000
END:STANDARD
END:VTIMEZONE
BEGIN:VTIMEZONE
TZID:America/Chicago
BEGIN:DAYLIGHT
TZOFFSETFROM:-0600
TZOFFSETTO:-0500
TZNAME:CDT
DTSTART:20240310T080000
END:DAYLIGHT
BEGIN:STANDARD
TZOFFSETFROM:-0500
TZOFFSETTO:-0600
TZNAME:CST
DTSTART:20241103T070000
END:STANDARD
BEGIN:DAYLIGHT
TZOFFSETFROM:-0600
TZOFFSETTO:-0500
TZNAME:CDT
DTSTART:20250309T080000
END:DAYLIGHT
BEGIN:STANDARD
TZOFFSETFROM:-0500
TZOFFSETTO:-0600
TZNAME:CST
DTSTART:20251102T070000
END:STANDARD
BEGIN:DAYLIGHT
TZOFFSETFROM:-0600
TZOFFSETTO:-0500
TZNAME:CDT
DTSTART:20260308T080000
END:DAYLIGHT
BEGIN:STANDARD
TZOFFSETFROM:-0500
TZOFFSETTO:-0600
TZNAME:CST
DTSTART:20261101T070000
END:STANDARD
END:VTIMEZONE
BEGIN:VEVENT
DTSTART;TZID=America/New_York:20260131T100000
DTEND;TZID=America/New_York:20260201T100000
DTSTAMP:20260421T083655
CREATED:20251007T023039Z
LAST-MODIFIED:20251007T023039Z
UID:1048-1769853600-1769940000@g8.oa-scouting.org
SUMMARY:Winter Council of Chiefs
DESCRIPTION:The Winter COC is a weekend planning meeting for the Annual Red Arrow Rally. Arrowmen from all lodges are invited to come with ideas around the patch design\, discuss morning and afternoon activities\, make decisions around the event theme\, and enjoy an evening activity at this event. Registration is expected to be open by January 2026.
URL:https://g8.oa-scouting.org/oa-event/winter-council-of-chiefs/
LOCATION:Loud Thunder Scout Reservation\, 9906 175th St W\, Illinois City\, IL\, 61259
END:VEVENT
BEGIN:VEVENT
DTSTART;TZID=America/Chicago:20251122T100000
DTEND;TZID=America/Chicago:20251123T100000
DTSTAMP:20260421T083655
CREATED:20251007T022933Z
LAST-MODIFIED:20251007T032209Z
UID:1043-1763805600-1763892000@g8.oa-scouting.org
SUMMARY:Fall Council of Chiefs
DESCRIPTION:Fall Council of Chiefs is an annual event open to all Arrowmen from the section. The event includes a meeting of the lodges\, fellowship\, RAR planning\, and more! Section Committee Chiefs (SCCs) will have an opportunity to meet with advisers and see the team as a whole. Registration will be open in mid October.
URL:https://g8.oa-scouting.org/oa-event/fall-council-of-chiefs/
LOCATION:Illowa Council Service Center\, 4412 N Brady Street\, Davenport\, IA\, 52806
END:VEVENT
END:VCALENDAR